BEGIN:VCALENDAR
VERSION:2.0
PRODID:-//ChamberMaster//Event Calendar 2.0//EN
METHOD:PUBLISH
X-PUBLISHED-TTL:P3D
REFRESH-INTERVAL:P3D
CALSCALE:GREGORIAN
BEGIN:VEVENT
DTSTART:20330118T190000Z
DTEND:20330118T203000Z
X-MICROSOFT-CDO-ALLDAYEVENT:FALSE
SUMMARY:Clinton Cancer Support Group
DESCRIPTION:Monthly support group at YWCA Clinton (Colonial Room)\, 317 7th Avenue South for adults and family members impacted by any type of cancer diagnosis.\n\n\n\nMembers share thoughts\, feelings\, and experiences while connecting with others.
X-ALT-DESC;FMTTYPE=text/html:Monthly support group at YWCA Clinton (Colonial Room)\, 317 7th Avenue South for adults and family members impacted by any type of cancer diagnosis.<br />\n<br />\nMembers share thoughts\, feelings\, and experiences while connecting with others.<br />\n&nbsp\;
LOCATION:YWCA Clinton - Colonial Room 317 7th Avenue South Clinton\, IA 52732
UID:e.1524.32194
SEQUENCE:3
DTSTAMP:20260420T163038Z
URL:http://clintonia.preview.gochambermaster.com/events/details/clinton-cancer-support-group-01-18-2033-32194
END:VEVENT

END:VCALENDAR
